BEGIN:VCALENDAR
VERSION:2.0
PRODID:-//HINATA official site | ひなた公式サイト - ECPv6.3.3.1//NONSGML v1.0//EN
CALSCALE:GREGORIAN
METHOD:PUBLISH
X-WR-CALNAME:HINATA official site | ひなた公式サイト
X-ORIGINAL-URL:https://hinata.tv
X-WR-CALDESC:HINATA official site | ひなた公式サイト のイベント
REFRESH-INTERVAL;VALUE=DURATION:PT1H
X-Robots-Tag:noindex
X-PUBLISHED-TTL:PT1H
BEGIN:VTIMEZONE
TZID:Asia/Tokyo
BEGIN:STANDARD
TZOFFSETFROM:+0900
TZOFFSETTO:+0900
TZNAME:JST
DTSTART:20260101T000000
END:STANDARD
END:VTIMEZONE
BEGIN:VEVENT
DTSTART;VALUE=DATE:20260425
DTEND;VALUE=DATE:20260426
DTSTAMP:20260425T013825
CREATED:20260314T130632Z
LAST-MODIFIED:20260314T130632Z
UID:4130-1777075200-1777161599@hinata.tv
SUMMARY:CafeWinds 35 Anniversary Live
DESCRIPTION:「CafeWinds 35 Anniversary Live」 \n■日時\n2026年4月25日(土) \n■会場\nカフェ&バナナウインズ屋外特設ステージ \n■出演アーティスト＆時間\n15:30～ナーリコオカピカケ\n16:00～ひなたWithさとちん\n16:50～星野裕矢\n17:40～叶 高 / 叶 ありさ（Fromサーカス）\n18:30～澤田知可子\n(19:20～お祝い花火 ワタル) \nMC 今井美穂 \n■Food\nterimakarih テリマカリー\nBake.A \n※入場無料
URL:https://hinata.tv/schedule/20260425/
ATTACH;FMTTYPE=image/jpeg:https://hinata.tv/wp-content/uploads/2026/03/266637.jpg
END:VEVENT
END:VCALENDAR