BEGIN:VCALENDAR
VERSION:2.0
PRODID:-//HINATA official site | ひなた公式サイト - ECPv6.3.3.1//NONSGML v1.0//EN
CALSCALE:GREGORIAN
METHOD:PUBLISH
X-WR-CALNAME:HINATA official site | ひなた公式サイト
X-ORIGINAL-URL:https://hinata.tv
X-WR-CALDESC:HINATA official site | ひなた公式サイト のイベント
REFRESH-INTERVAL;VALUE=DURATION:PT1H
X-Robots-Tag:noindex
X-PUBLISHED-TTL:PT1H
BEGIN:VTIMEZONE
TZID:Asia/Tokyo
BEGIN:STANDARD
TZOFFSETFROM:+0900
TZOFFSETTO:+0900
TZNAME:JST
DTSTART:20220101T000000
END:STANDARD
END:VTIMEZONE
BEGIN:VEVENT
DTSTART;VALUE=DATE:20230731
DTEND;VALUE=DATE:20230801
DTSTAMP:20260424T083149
CREATED:20230523T062049Z
LAST-MODIFIED:20230523T062102Z
UID:510-1690761600-1690847999@hinata.tv
SUMMARY:平和の森コンサート
DESCRIPTION:「第29回 平和の森コンサート」\n\n\n～野に花を くちびるには平和の調べ～\n\n\n\n\n\n■日時\n\n\n7/31(月)16:30/17:00\n\n\n\n\n\n■会場\n平和の森公園 (長岡市本町3丁目)\n\n\n\n※ぴろんソロでの出演となります。\n\n\n※入場無料(今年は入場整理券はありません。)\n\n\n\nhttp://heiwanomorikouen.web.fc2.com/
URL:https://hinata.tv/schedule/20230731/
CATEGORIES:イベント,野外ライブ
ATTACH;FMTTYPE=image/jpeg:https://hinata.tv/wp-content/uploads/2023/05/S__75432099.jpg
END:VEVENT
BEGIN:VEVENT
DTSTART;VALUE=DATE:20230521
DTEND;VALUE=DATE:20230522
DTSTAMP:20260424T083149
CREATED:20230523T072814Z
LAST-MODIFIED:20230523T072814Z
UID:566-1684627200-1684713599@hinata.tv
SUMMARY:とち音むすびフェス!!2023
DESCRIPTION:「とち音むすびフェス!!2023」 \n■日時\n2023年5月21日(日)11時スタート\n※ライブ前方スペースへのご入場は10時30分～を予定しています。\n※ライブ終了は17時30分頃を予定しています。その後の1時間ほどは物販を予定しております。\n※なお、出演者によって物販がある場合とない場合もございますので、各出演者へお問い合わせください。 \n■会場\nトチオーレ 屋根付き広場　(新潟県長岡市中央公園1番67号)\n★バスでお越しの方★\n・JR長岡駅大手口11番線から栃尾車庫行きバスで60分、「中央公園前」で下車、徒歩1分\n・JR長岡駅東口4番線から栃尾車庫行きバスで45分、「中央公園」で下車、徒歩1分\n※バスの本数に限りがあります。必ずご自身で調べてからご乗車ください。\n★お車でお越しの方★\n会場に、無料駐車場がありますが数に限りがありますので、乗り合わせてお越しください。 \n■出演\nひなた/坂本サトル/ナカノアツシ/N.U./植田健一/遊吟/秋休/Rafvery \nダンス:GENEX Dance Studio/Luv Dance Movement \n司会：中静祐介 \n入場無料!!\n雨天決行・荒天中止\n———————————-\n■タイムテーブル\nオープニングセッション＆エンディングセッションあり！\nスケジュールは後日発表！！！！ \n■入場について\n※ライブ前方スペースへのご入場は10時30分～を予定しています。\n会場準備もありますので、あまり早い時間からのご来場はご遠慮くださいますようお願いいたします。\n整列開始位置等は当日スタッフがご案内いたします。\n※当日の状況によりご案内が変動する可能性もあります。ご了承ください。 \n■飲食ブースについて\n10:00以降、各店舗準備ができ次第、順次販売開始となります。\n終了時刻も出店毎異なります。 \n■お車でお越しの場合\n会場に無料の駐車場はありますが、数に限りがあります。\n出来る限りお乗り合わせの上ご来場ください。 \n■各アーティストグッズ\n10時以降、各出演者準備ができ次第で販売開始です。\nなお、終演後のみの可能性もございます。\n販売の有無に関しては各出演アーティストにご確認くださいますようお願いいたします。 \n■写真撮影について\n関係者以外のライブ演奏の撮影・録音・録画は禁止です。\n「GENEX Dance Studio」「LuvDanceMovement」のダンスパフォーマンス時、食べ物やご来場者の皆さま同士での撮影は可能です。 \n 
URL:https://hinata.tv/schedule/20230521/
CATEGORIES:イベント,野外ライブ
ATTACH;FMTTYPE=image/jpeg:https://hinata.tv/wp-content/uploads/2023/05/FuOXBKNaEAA_3C8.jpg
END:VEVENT
BEGIN:VEVENT
DTSTART;VALUE=DATE:20220910
DTEND;VALUE=DATE:20220911
DTSTAMP:20260424T083149
CREATED:20230528T113323Z
LAST-MODIFIED:20230528T113334Z
UID:710-1662768000-1662854399@hinata.tv
SUMMARY:CoCoLoadミュージックvol.02
DESCRIPTION:ひなたの原点！長岡駅　CoCoLo長岡にて「CoCoLoadミュージック」vol.2！！！！！\n歌は心を込めて熱い仲間たちが集まります！入場無料！CoCoLo長岡キャノピー広場へ集合！ \n「CoCoLoadミュージックvol.02」 \nvol.1は中止となってしまいましたが、vol.2は出演者の皆様全員無事参加出来ますように！ \n■日時\n2022年9月10日(土) \n■会場\nCoCoLo長岡　キャノピー広場　特設ステージ \n■出演\nひなた/ナカノアツシ/サナダヒデト \n※観覧無料\n※ライブ中の写真撮影・動画撮影は禁止です。 \n雨天決行（荒天中止)\n＊開催の是非はひなたSNSよりお知らせいたします。
URL:https://hinata.tv/schedule/20220910/
CATEGORIES:LIVE,イベント,野外ライブ
ATTACH;FMTTYPE=image/jpeg:https://hinata.tv/wp-content/uploads/2023/05/20220910チラシ-840x560-1.jpg
END:VEVENT
BEGIN:VEVENT
DTSTART;TZID=Asia/Tokyo:20220904T080000
DTEND;TZID=Asia/Tokyo:20220904T170000
DTSTAMP:20260424T083149
CREATED:20230528T113210Z
LAST-MODIFIED:20230528T113223Z
UID:707-1662278400-1662310800@hinata.tv
SUMMARY:長岡ブルーヒルズフェスティバル2022!!in青葉台
DESCRIPTION:『長岡ブルーヒルズフェスティバル2022!!in青葉台』 \n青葉台ニュータウンの広大な敷地を利用して、町と人を結ぶフェスティバル開催決定！\n「ひなた」を中心に子どもたちから大人まで参加型の一大イベントです！ビアガーデン！\nキッチンカーフェス！食と音楽とダンス！一日まるごと楽しみましょう♪\n※テーブルや、椅子はありませんので、各自でビニールシートや、椅子、傘などご持参ください！\n晴れの時用の日傘！雨の時用の雨傘などご用意ください♪ \n■日時\n2022年9月4日(日)11:00-17:00 \n■会場\n青葉台ニュータウン (旧アカチャンホンポ長岡店　跡地)\n(新潟県長岡市青葉台1-120-21) \n■出演\nひなた\nhttps://hinata.tv/ \nRafvery\nhttps://www.rafvery.jp/ \nLuvDanceMovement\nhttps://luvdance.net/ \nナーリコオカピカケ\nhttp://likopikake.com/ \nGenex Dance Studio\nhttps://genex-dance.com/ \nよさこい　舞〜MAI〜 \n中越高校チアリーディング部\nhttps://www.chuetsu-h.ed.jp/club/cheer/ \n■出店\nキッチンカー１０店舗！！予定！ \n■タイムテーブル\n11:00-11:10 オープニング\n11:10-11:40 よさこい　舞〜MAI〜\n12:00-12:30 中越高校チアリーディング部\n12:50-13:10 Genex Dance Studio\n13:30-14:00 ナーリコオカピカケ\n14:20-14:50 LuvDanceMovement\n15:00-15:30 Rafvery\n15:50-16:20 ひなた\n16:20-16:30エンディングセッション \n入場無料\n駐車場無料 \n雨天決行（荒天中止)\n＊開催の是非はひなたSNSよりお知らせいたします↓\nhttps://twitter.com/hinatalive \n主催：ひなた・(株)丸久ユニフォーム\n共催：(株)美松・(株) 晴耕舎
URL:https://hinata.tv/schedule/20220904/
CATEGORIES:イベント,野外ライブ
ATTACH;FMTTYPE=image/jpeg:https://hinata.tv/wp-content/uploads/2023/05/20220904-840x560-1.jpg
END:VEVENT
END:VCALENDAR