BEGIN:VCALENDAR
VERSION:2.0
PRODID:-//HINATA official site | ひなた公式サイト - ECPv6.3.3.1//NONSGML v1.0//EN
CALSCALE:GREGORIAN
METHOD:PUBLISH
X-WR-CALNAME:HINATA official site | ひなた公式サイト
X-ORIGINAL-URL:https://hinata.tv
X-WR-CALDESC:HINATA official site | ひなた公式サイト のイベント
REFRESH-INTERVAL;VALUE=DURATION:PT1H
X-Robots-Tag:noindex
X-PUBLISHED-TTL:PT1H
BEGIN:VTIMEZONE
TZID:Asia/Tokyo
BEGIN:STANDARD
TZOFFSETFROM:+0900
TZOFFSETTO:+0900
TZNAME:JST
DTSTART:20230101T000000
END:STANDARD
END:VTIMEZONE
BEGIN:VEVENT
DTSTART;VALUE=DATE:20230514
DTEND;VALUE=DATE:20230515
DTSTAMP:20260426T083245
CREATED:20230523T073129Z
LAST-MODIFIED:20230523T073129Z
UID:574-1684022400-1684108799@hinata.tv
SUMMARY:「ひなたと田植部(タウェーブ)2023」 inホープイン中沢
DESCRIPTION:「ひなたと田植部(タウェーブ)2023」 inホープイン中沢 \n■日時\n2023年5月14日(日) \n■スケジュール(予定)\n受付開始 9:00\n開会式 9:30\n田植え 9:40～\nひなたアンプラグライブ 10:30-11:30\n解散 12:00 \n■会場\n有限会社 ホープイン中沢\n(新潟県長岡市越路中沢625-2) \n■参加費\nひとり2000円（おにぎり付き）\n(当日会場でのお支払いとなります。お釣りのないようにご用意お願いいたします。) \n■申込方法\n参加希望の方はメールにてお申込みください。 \nhinata.ticket@gmail.com\n件名：5/14田植部参加申込\n本文：代表者氏名、参加人数 \n※田植えをするので動きやすく、汚れてもよい格好でお越しください。\n※天候により開催の有無が変わります。中止の際はひなたオフィシャルツイッターで告知いたします。\n※体調のすぐれない方のご参加はご遠慮ください。
URL:https://hinata.tv/schedule/20230514/
CATEGORIES:イベント
ATTACH;FMTTYPE=image/jpeg:https://hinata.tv/wp-content/uploads/2023/05/FuDB7yBaMAMIe8j.jpg
END:VEVENT
END:VCALENDAR