BEGIN:VCALENDAR
VERSION:2.0
PRODID:-//HINATA official site | ひなた公式サイト - ECPv6.3.3.1//NONSGML v1.0//EN
CALSCALE:GREGORIAN
METHOD:PUBLISH
X-WR-CALNAME:HINATA official site | ひなた公式サイト
X-ORIGINAL-URL:https://hinata.tv
X-WR-CALDESC:HINATA official site | ひなた公式サイト のイベント
REFRESH-INTERVAL;VALUE=DURATION:PT1H
X-Robots-Tag:noindex
X-PUBLISHED-TTL:PT1H
BEGIN:VTIMEZONE
TZID:Asia/Tokyo
BEGIN:STANDARD
TZOFFSETFROM:+0900
TZOFFSETTO:+0900
TZNAME:JST
DTSTART:20230101T000000
END:STANDARD
END:VTIMEZONE
BEGIN:VEVENT
DTSTART;VALUE=DATE:20230507
DTEND;VALUE=DATE:20230508
DTSTAMP:20260426T083245
CREATED:20230523T074218Z
LAST-MODIFIED:20230523T074218Z
UID:582-1683417600-1683503999@hinata.tv
SUMMARY:「じょんのび村イメージソング初お披露目」ひなたスペシャルライブ
DESCRIPTION:じょんのびWeek「じょんのび村イメージソング初お披露目」\nひなたスペシャルライブ \n■日時\n2023年5月7日(日) \n■会場\n高柳じょんのび村\n(柏崎市高柳町高尾10-1)\nhttps://www.jon-nobi.com/
URL:https://hinata.tv/schedule/20230507/
CATEGORIES:イベント
ATTACH;FMTTYPE=image/jpeg:https://hinata.tv/wp-content/uploads/2023/05/20230507-610x560-1.jpg
END:VEVENT
END:VCALENDAR