BEGIN:VCALENDAR
VERSION:2.0
PRODID:-//HINATA official site | ひなた公式サイト - ECPv6.3.3.1//NONSGML v1.0//EN
CALSCALE:GREGORIAN
METHOD:PUBLISH
X-ORIGINAL-URL:https://hinata.tv
X-WR-CALDESC:HINATA official site | ひなた公式サイト のイベント
REFRESH-INTERVAL;VALUE=DURATION:PT1H
X-Robots-Tag:noindex
X-PUBLISHED-TTL:PT1H
BEGIN:VTIMEZONE
TZID:Asia/Tokyo
BEGIN:STANDARD
TZOFFSETFROM:+0900
TZOFFSETTO:+0900
TZNAME:JST
DTSTART:20230101T000000
END:STANDARD
END:VTIMEZONE
BEGIN:VEVENT
DTSTART;VALUE=DATE:20230416
DTEND;VALUE=DATE:20230417
DTSTAMP:20260426T095434
CREATED:20230319T022742Z
LAST-MODIFIED:20230319T022742Z
UID:172-1681603200-1681689599@hinata.tv
SUMMARY:ヨコハマアコフェスvol.13
DESCRIPTION:「ヨコハマアコフェスvol.13」 \n■日時\n2023年4月15日(土)、16日(日)\n※ひなたは、4/16(日)に出演させていただきます！出演時間は未定です！ \n■会場\n横浜赤レンガ倉庫 イベント広場 \n■出演\nN.U. / 千綿偉功 / 牧田 拓磨  /ひなた/澤田知可子 / uuuuuuuU/ ……and more \n※観覧無料 \nクラウドファンディング実施中！！！！\n詳細はコチラ！ \nhttps://www.muevo.jp/campaigns/3561 \n▼ヨコハマアコフェス詳細はコチラ！\nhttps://yokohama-acofes.com/
URL:https://hinata.tv/schedule/%e3%83%a8%e3%82%b3%e3%83%8f%e3%83%9e%e3%82%a2%e3%82%b3%e3%83%95%e3%82%a7%e3%82%b9vol-13/
LOCATION:横浜赤レンガ倉庫 イベント広場\, 〒231-0001 神奈川県横浜市中区新港１丁目１
CATEGORIES:イベント
ATTACH;FMTTYPE=image/jpeg:https://hinata.tv/wp-content/uploads/2023/03/アコフェス-840x560-1.jpg
END:VEVENT
END:VCALENDAR