BEGIN:VCALENDAR
VERSION:2.0
PRODID:-//HINATA official site | ひなた公式サイト - ECPv6.3.3.1//NONSGML v1.0//EN
CALSCALE:GREGORIAN
METHOD:PUBLISH
X-WR-CALNAME:HINATA official site | ひなた公式サイト
X-ORIGINAL-URL:https://hinata.tv
X-WR-CALDESC:HINATA official site | ひなた公式サイト のイベント
REFRESH-INTERVAL;VALUE=DURATION:PT1H
X-Robots-Tag:noindex
X-PUBLISHED-TTL:PT1H
BEGIN:VTIMEZONE
TZID:Asia/Tokyo
BEGIN:STANDARD
TZOFFSETFROM:+0900
TZOFFSETTO:+0900
TZNAME:JST
DTSTART:20230101T000000
END:STANDARD
END:VTIMEZONE
BEGIN:VEVENT
DTSTART;VALUE=DATE:20230528
DTEND;VALUE=DATE:20230529
DTSTAMP:20260426T111956
CREATED:20230523T071207Z
LAST-MODIFIED:20230523T071251Z
UID:556-1685232000-1685318399@hinata.tv
SUMMARY:第17回花いっぱい音楽祭2023 クロスオーバー～長岡音楽の響演～
DESCRIPTION:「第17回花いっぱい音楽祭2023 クロスオーバー～長岡音楽の響演～」ゲスト出演！ \n■日時\n2023年5月28日(日)\n13:30/14:00 \n■会場\n長岡リリックホール コンサートホール\n(新潟県長岡市千秋3丁目1356番地6) \n■チケット\n全席自由　1\,000円\n※ひなた物販にて手売りチケット販売中！ \n■お問い合わせ\n(公財) 岡市芸術文化振興財団　事業課　0258-29-7715
URL:https://hinata.tv/schedule/20230528/
CATEGORIES:イベント
ATTACH;FMTTYPE=image/jpeg:https://hinata.tv/wp-content/uploads/2023/05/FtlToPTaEAA_v0d.jpg
END:VEVENT
BEGIN:VEVENT
DTSTART;VALUE=DATE:20230528
DTEND;VALUE=DATE:20230529
DTSTAMP:20260426T111956
CREATED:20230528T105011Z
LAST-MODIFIED:20230528T105025Z
UID:634-1685232000-1685318399@hinata.tv
SUMMARY:「鎮魂と世界平和の祈りを夜空へ」
DESCRIPTION:■日時\n2022年12月8日(木) \n■会場\n新潟県長岡市千秋3-1356-6／長岡リリックホール \n12月8日・日米開戦となったこの日、信濃川河川敷で祈りの花火を打上げます。\n戦争犠牲者への鎮魂と世界平和への願いを込めた花火「白菊」を日米開戦の日に打ち上げます。ご一緒に祈りを捧げましょう。 \n●打ち上げ時間：17時 ※白菊の打ち上げと同時に平和へのメッセージを書いた風船リリースを行います。\n1発目『白菊』：太平洋戦争犠牲者への鎮魂\n2発目『白菊』：今なお続く戦争・テロ犠牲者への鎮魂\n3発目『金冠』：世界平和への祈り \n第１部【平和をつなぐ・トークショー】\n本年は日米開戦81周年・昨年3月長岡ホノルル友好姉妹都市10周年を迎え、姉妹都市締結や真珠湾での長岡花火打ち上げに尽力された高野克広様（公益財団法人長岡市国際交流協会 専務理事）をゲストに開催します。また、長岡市立希望が丘小学校6年生による合唱（「平和の鐘」「ジュピター」やステージ上の大凧『世界中の爆弾をすべて花火にかえよう！』や長岡アロハクラブ制作の『白菊メモリアルアート』タペストリーもお楽しみください。 \n●開催時間：16時～\n●会場：リリックホール \n第2部【鎮魂と平和の花火打上げ】※リリックホール中庭にて観覧\n●花火打上げ時間：17時～ \n第3部【祈りの調べコンサート】\n●開催時間：17時20分～\n●会場：リリックホール\n●出演予定：ひなた、Pease of forest（畠山徳雄、深田美恵子）、加藤和幸、渡辺優子、清水幸太郎、片野大輔、喜瀬遥、秋丸八恵子、片桐晴海、加藤典子、長岡アロハクラブ \n※観覧無料
URL:https://hinata.tv/schedule/20221208/
CATEGORIES:イベント
ATTACH;FMTTYPE=image/jpeg:https://hinata.tv/wp-content/uploads/2023/05/S__72851459-840x560-1.jpg
END:VEVENT
BEGIN:VEVENT
DTSTART;VALUE=DATE:20230528
DTEND;VALUE=DATE:20230529
DTSTAMP:20260426T111956
CREATED:20230528T113859Z
LAST-MODIFIED:20230528T113909Z
UID:722-1685232000-1685318399@hinata.tv
SUMMARY:竹あかり かぐや「みんなの想火」
DESCRIPTION:竹あかり かぐや「みんなの想火」 \n急遽、ゲスト出演させていただく事が決定しました！ \n■日時\n2022年9月18日(土)15:00～\n※ひなた出演時間18:30～を予定しています。 \n■会場\nバナナウィンズ\nCafe Winds＆Banana Winds\n(新潟県長岡市寺泊野積１０７−１７７)\nhttps://www.banana-winds.com/menu/#grand2 \n■出演\n澤田知可子/小野澤篤/星野裕矢/ナタリー石田/Tatsunori/ひなた\nメインMC:今井美穂 \n■FOOD\nキッチンカー suzu365 \n※入場無料
URL:https://hinata.tv/schedule/20220918-2/
CATEGORIES:イベント
ATTACH;FMTTYPE=image/jpeg:https://hinata.tv/wp-content/uploads/2023/05/9.18_2-595x560-1.jpg
END:VEVENT
BEGIN:VEVENT
DTSTART;VALUE=DATE:20230731
DTEND;VALUE=DATE:20230801
DTSTAMP:20260426T111956
CREATED:20230523T062049Z
LAST-MODIFIED:20230523T062102Z
UID:510-1690761600-1690847999@hinata.tv
SUMMARY:平和の森コンサート
DESCRIPTION:「第29回 平和の森コンサート」\n\n\n～野に花を くちびるには平和の調べ～\n\n\n\n\n\n■日時\n\n\n7/31(月)16:30/17:00\n\n\n\n\n\n■会場\n平和の森公園 (長岡市本町3丁目)\n\n\n\n※ぴろんソロでの出演となります。\n\n\n※入場無料(今年は入場整理券はありません。)\n\n\n\nhttp://heiwanomorikouen.web.fc2.com/
URL:https://hinata.tv/schedule/20230731/
CATEGORIES:イベント,野外ライブ
ATTACH;FMTTYPE=image/jpeg:https://hinata.tv/wp-content/uploads/2023/05/S__75432099.jpg
END:VEVENT
BEGIN:VEVENT
DTSTART;VALUE=DATE:20230803
DTEND;VALUE=DATE:20230804
DTSTAMP:20260426T111956
CREATED:20230725T025705Z
LAST-MODIFIED:20230725T030204Z
UID:1413-1691020800-1691107199@hinata.tv
SUMMARY:「ひなたのじょんのび喫茶」公開生放送〜長岡花火スペシャル〜
DESCRIPTION:FMながおかラジオ「ひなたのじょんのび喫茶公開生放送〜長岡花火スペシャル〜」 \n  \n■日時\n2023年8月3日(木) 13:00〜15:00 \n■場所\n長岡市大手通り(アオーレ長岡付近) \n■パーソナリティ\nひなた \n■ゲスト\nさとちん\nキャンディ(がぁがぁがあるず)＆あっぴー\nモリナオフミ(フラチナリズム)＆GA-HA-(トラシグ)\nあきまるさら \n  \n※観覧無料\n※雨天決行・荒天中止 \n 
URL:https://hinata.tv/schedule/20230803/
CATEGORIES:イベント
ATTACH;FMTTYPE=image/png:https://hinata.tv/wp-content/uploads/2023/07/D115113D-424A-44B6-8DE2-21C4690F5400.png
END:VEVENT
END:VCALENDAR