BEGIN:VCALENDAR
VERSION:2.0
PRODID:-//HINATA official site | ひなた公式サイト - ECPv6.3.3.1//NONSGML v1.0//EN
CALSCALE:GREGORIAN
METHOD:PUBLISH
X-WR-CALNAME:HINATA official site | ひなた公式サイト
X-ORIGINAL-URL:https://hinata.tv
X-WR-CALDESC:HINATA official site | ひなた公式サイト のイベント
REFRESH-INTERVAL;VALUE=DURATION:PT1H
X-Robots-Tag:noindex
X-PUBLISHED-TTL:PT1H
BEGIN:VTIMEZONE
TZID:Asia/Tokyo
BEGIN:STANDARD
TZOFFSETFROM:+0900
TZOFFSETTO:+0900
TZNAME:JST
DTSTART:20220101T000000
END:STANDARD
END:VTIMEZONE
BEGIN:VEVENT
DTSTART;VALUE=DATE:20230520
DTEND;VALUE=DATE:20230521
DTSTAMP:20260426T112341
CREATED:20230523T072927Z
LAST-MODIFIED:20230523T072927Z
UID:572-1684540800-1684627199@hinata.tv
SUMMARY:「フレンドサーキットスペシャルvol.8」～とち音むすびフェス!!2023 前夜祭～
DESCRIPTION:「フレンドサーキットスペシャルvol.8」～とち音むすびフェス!!2023 前夜祭～ \nひなた主催「フレンドサーキット」の一大イベント「フレンドサーキットスペシャル」開催決定！！\nとち音むすびフェス!!2023の前夜祭としてもスペシャルな２デイズ！\n最高のフレンドが集結します！ \n■日時\n2023年5月20日(土)\n開場12:30/開演13:00 \n■会場\n長岡市栃尾地域交流拠点施設 トチオーレ 会議室A\n(新潟県長岡市中央公園1-67) \n★バスでお越しの方★\n・JR長岡駅大手口11番線から栃尾車庫行きバスで60分、「中央公園前」で下車、徒歩1分\n・JR長岡駅東口4番線から栃尾車庫行きバスで45分、「中央公園」で下車、徒歩1分\n※バスの本数に限りがあります。必ずご自身で調べてからご乗車ください。\n★お車でお越しの方★\n会場に、無料駐車場がありますが数に限りがありますので、乗り合わせてお越しください。 \n■出演\nひなた/坂本サトル/ナカノアツシ/N.U./植田健一/遊吟/秋休 \n■料金\n3\,500円（+ドリンク代別） \n■入場順\nお申し込み後にお送りするメールに記載の整理番号順での入場となります。 \n■申込方法\n【メール予約】\n3/6(月)19時より先着メール予約受付開始！⇒メール予約受付中！！！！\n※この時間より前のお申し込みは受付不備となってしまいますのでお気を付けください。\n※定員に達し次第受付を終了いたします。 \n全出演者共通で下記アドレスよりお申し込み受付いたします。 \nhinata.ticket@gmail.com \n件名「5/20 フレサキスペシャル」\n本文「1.お名前（フルネームカタカナ）2.希望枚数　3.お目当てのアーティスト1組」\n—————– \n<当日のお知らせ>\n★キッチンカーが1店舗のみ出店します！ぜひ、小腹を空かせてご来場ください！
URL:https://hinata.tv/schedule/20230520/
CATEGORIES:LIVE,イベント
ATTACH;FMTTYPE=image/jpeg:https://hinata.tv/wp-content/uploads/2023/05/FuOWh6WaYAEdjNS.jpg
END:VEVENT
BEGIN:VEVENT
DTSTART;VALUE=DATE:20230514
DTEND;VALUE=DATE:20230515
DTSTAMP:20260426T112341
CREATED:20230523T073129Z
LAST-MODIFIED:20230523T073129Z
UID:574-1684022400-1684108799@hinata.tv
SUMMARY:「ひなたと田植部(タウェーブ)2023」 inホープイン中沢
DESCRIPTION:「ひなたと田植部(タウェーブ)2023」 inホープイン中沢 \n■日時\n2023年5月14日(日) \n■スケジュール(予定)\n受付開始 9:00\n開会式 9:30\n田植え 9:40～\nひなたアンプラグライブ 10:30-11:30\n解散 12:00 \n■会場\n有限会社 ホープイン中沢\n(新潟県長岡市越路中沢625-2) \n■参加費\nひとり2000円（おにぎり付き）\n(当日会場でのお支払いとなります。お釣りのないようにご用意お願いいたします。) \n■申込方法\n参加希望の方はメールにてお申込みください。 \nhinata.ticket@gmail.com\n件名：5/14田植部参加申込\n本文：代表者氏名、参加人数 \n※田植えをするので動きやすく、汚れてもよい格好でお越しください。\n※天候により開催の有無が変わります。中止の際はひなたオフィシャルツイッターで告知いたします。\n※体調のすぐれない方のご参加はご遠慮ください。
URL:https://hinata.tv/schedule/20230514/
CATEGORIES:イベント
ATTACH;FMTTYPE=image/jpeg:https://hinata.tv/wp-content/uploads/2023/05/FuDB7yBaMAMIe8j.jpg
END:VEVENT
BEGIN:VEVENT
DTSTART;VALUE=DATE:20230508
DTEND;VALUE=DATE:20230509
DTSTAMP:20260426T112341
CREATED:20230523T074043Z
LAST-MODIFIED:20230523T074043Z
UID:579-1683504000-1683590399@hinata.tv
SUMMARY:「TABI BAR & CAFE」移転前ラストイベント
DESCRIPTION:「TABI BAR & CAFE」移転前ラストイベント！\nひなたと愉快な仲間たち・生歌ライブ決定！ \n■日時\n5/8(月)19:00スタート \n■会場\nTABI BAR & CAFÉ from SUZUVEL\n(新潟県新潟市中央区花園1-1-1 CoCoLo新潟西N＋) \nhttps://suzugroup.com/tabibar \n※入場無料！
URL:https://hinata.tv/schedule/%e3%80%8ctabi-bar-cafe%e3%80%8d%e7%a7%bb%e8%bb%a2%e5%89%8d%e3%83%a9%e3%82%b9%e3%83%88%e3%82%a4%e3%83%99%e3%83%b3%e3%83%88/
CATEGORIES:イベント
ATTACH;FMTTYPE=image/jpeg:https://hinata.tv/wp-content/uploads/2023/05/S__46964752-840x560-1.jpg
END:VEVENT
BEGIN:VEVENT
DTSTART;VALUE=DATE:20230507
DTEND;VALUE=DATE:20230508
DTSTAMP:20260426T112341
CREATED:20230523T074218Z
LAST-MODIFIED:20230523T074218Z
UID:582-1683417600-1683503999@hinata.tv
SUMMARY:「じょんのび村イメージソング初お披露目」ひなたスペシャルライブ
DESCRIPTION:じょんのびWeek「じょんのび村イメージソング初お披露目」\nひなたスペシャルライブ \n■日時\n2023年5月7日(日) \n■会場\n高柳じょんのび村\n(柏崎市高柳町高尾10-1)\nhttps://www.jon-nobi.com/
URL:https://hinata.tv/schedule/20230507/
CATEGORIES:イベント
ATTACH;FMTTYPE=image/jpeg:https://hinata.tv/wp-content/uploads/2023/05/20230507-610x560-1.jpg
END:VEVENT
BEGIN:VEVENT
DTSTART;VALUE=DATE:20230423
DTEND;VALUE=DATE:20230424
DTSTAMP:20260426T112341
CREATED:20230319T073743Z
LAST-MODIFIED:20230319T073743Z
UID:197-1682208000-1682294399@hinata.tv
SUMMARY:えちご川口温泉リゾート ランチ＆ライブ Vol.1
DESCRIPTION:えちご川口温泉リニューアル1周年記念\n「えちご川口温泉リゾート ランチ＆ライブ Vol.1」\n～えちご川口温泉のみなさん♪初めまして「ひなた」＆「片山遼」です♪♪～ \n■日時\n2023年4月23日(日)\n11:00開場\n11:00～12:30 ランチタイム\n12:30～13:30 ライブタイム \n■出演\nひなた / 片山遼 \n■会場\nホテル サンローラ 2階\n(新潟県長岡市川口中山2515-4)\nhttps://hotel-sunrolla.jp/\n※正式な場所は申込完了メール内にてお知らせします。 \n■チケット代\n4\,500 円（税込）\n※ランチ＆ドリンク＆温泉入浴券 付 \n■入場順\nお申し込み後にお送りするメールに記載の整理番号順での入場となります。 \n【メール予約】\n3/17(金)19時より受付開始！\n※この時間より前のお申し込みは受付不備となってしまいますのでお気を付けください。\n※定員に達し次第受付を終了いたします。 \n2組共通で下記アドレスよりお申し込み受付いたします。\nhinata.ticket@gmail.com \n件名「4/23 えちご川口温泉」\n本文「1.お名前（フルネームカタカナ）2.希望枚数 3.お目当てのアーティスト」 \nを明記の上、メールをお送りください。\nメール受付が無事完了しましたら、いただいたメール宛てで「申込完了メール」をお送りします。 \n※注意事項※\n・料金は当日会場でのお支払いとなります。\n・予約メール送信後3日以内には「申込完了メール」を返信させていただきます。\n・メール送信後3日以上経っても返信がない場合には、メールが届いていない可能性があります。\n携帯電話の場合、ドメイン設定の確認、パソコンからの場合、迷惑メールフォルダなどご確認いただいたのち、お手数ではございますが、再度お申し込みください。
URL:https://hinata.tv/schedule/%e3%81%88%e3%81%a1%e3%81%94%e5%b7%9d%e5%8f%a3%e6%b8%a9%e6%b3%89%e3%83%aa%e3%82%be%e3%83%bc%e3%83%88-%e3%83%a9%e3%83%b3%e3%83%81%ef%bc%86%e3%83%a9%e3%82%a4%e3%83%96-vol-1/
LOCATION:ホテル サンローラ\, 新潟県長岡市川口中山2515-4
CATEGORIES:イベント
ATTACH;FMTTYPE=image/jpeg:https://hinata.tv/wp-content/uploads/2023/03/ライブ告知A4サイズ-1-840x560-1.jpg
END:VEVENT
BEGIN:VEVENT
DTSTART;VALUE=DATE:20230422
DTEND;VALUE=DATE:20230423
DTSTAMP:20260426T112341
CREATED:20230319T073354Z
LAST-MODIFIED:20230319T073354Z
UID:193-1682121600-1682207999@hinata.tv
SUMMARY:リバーサイド千秋インストアイベント
DESCRIPTION:■日時\n2023年4月22日(土)\n①13:00～/②15:00～ \n■出演\nひなた/片山遼/アルビレックスチアリーダーズ/かわぐっち(えちご川口公式キャラクター) \n■会場\nリバーサイド千秋\n(新潟県長岡市千秋2-278)\nhttp://riverside-senshu.com/index.html \n※観覧無料\n※ライブ終了後、CD販売あり。ご購入いただいた方を対象にサイン会開催。
URL:https://hinata.tv/schedule/%e3%83%aa%e3%83%90%e3%83%bc%e3%82%b5%e3%82%a4%e3%83%89%e5%8d%83%e7%a7%8b%e3%82%a4%e3%83%b3%e3%82%b9%e3%83%88%e3%82%a2%e3%82%a4%e3%83%99%e3%83%b3%e3%83%88/
LOCATION:リバーサイド千秋\, 新潟県長岡市千秋2-278
CATEGORIES:イベント
ATTACH;FMTTYPE=image/jpeg:https://hinata.tv/wp-content/uploads/2023/03/55CB282C-A306-49F6-A70A-6894462BD567-840x560-1.jpg
END:VEVENT
BEGIN:VEVENT
DTSTART;VALUE=DATE:20230416
DTEND;VALUE=DATE:20230417
DTSTAMP:20260426T112341
CREATED:20230319T022742Z
LAST-MODIFIED:20230319T022742Z
UID:172-1681603200-1681689599@hinata.tv
SUMMARY:ヨコハマアコフェスvol.13
DESCRIPTION:「ヨコハマアコフェスvol.13」 \n■日時\n2023年4月15日(土)、16日(日)\n※ひなたは、4/16(日)に出演させていただきます！出演時間は未定です！ \n■会場\n横浜赤レンガ倉庫 イベント広場 \n■出演\nN.U. / 千綿偉功 / 牧田 拓磨  /ひなた/澤田知可子 / uuuuuuuU/ ……and more \n※観覧無料 \nクラウドファンディング実施中！！！！\n詳細はコチラ！ \nhttps://www.muevo.jp/campaigns/3561 \n▼ヨコハマアコフェス詳細はコチラ！\nhttps://yokohama-acofes.com/
URL:https://hinata.tv/schedule/%e3%83%a8%e3%82%b3%e3%83%8f%e3%83%9e%e3%82%a2%e3%82%b3%e3%83%95%e3%82%a7%e3%82%b9vol-13/
LOCATION:横浜赤レンガ倉庫 イベント広場\, 〒231-0001 神奈川県横浜市中区新港１丁目１
CATEGORIES:イベント
ATTACH;FMTTYPE=image/jpeg:https://hinata.tv/wp-content/uploads/2023/03/アコフェス-840x560-1.jpg
END:VEVENT
BEGIN:VEVENT
DTSTART;VALUE=DATE:20230415
DTEND;VALUE=DATE:20230416
DTSTAMP:20260426T112341
CREATED:20230319T022525Z
LAST-MODIFIED:20230319T022525Z
UID:168-1681516800-1681603199@hinata.tv
SUMMARY:style-3! & ひなた 春のOSC湘南シティSPステージ
DESCRIPTION:style-3!さんとの湘南でのイベントが決定しました！\n\n\n\n「style-3! & ひなた 春のOSC湘南シティSPステージ」 \n■日時\n2023年4月15日(土)\nひなた ①12:30/②14:30\nstyle-3! ①13:15/②15:15 \n\n\n\n ■会場\n\n\nOSC湘南シティ1F オープンモールステージ\n\n\n(神奈川県平塚市代官町33-1)\n\n\nhttps://shonan-city.com/\n\n\n \n\n\n※観覧無料！
URL:https://hinata.tv/schedule/style-3-%e3%81%b2%e3%81%aa%e3%81%9f-%e6%98%a5%e3%81%aeosc%e6%b9%98%e5%8d%97%e3%82%b7%e3%83%86%e3%82%a3sp%e3%82%b9%e3%83%86%e3%83%bc%e3%82%b8/
LOCATION:OSC湘南シティ1F オープンモールステージ\, 神奈川県平塚市代官町33-1
CATEGORIES:イベント
ATTACH;FMTTYPE=image/jpeg:https://hinata.tv/wp-content/uploads/2023/03/logo.jpg
END:VEVENT
BEGIN:VEVENT
DTSTART;TZID=Asia/Tokyo:20230408T143000
DTEND;TZID=Asia/Tokyo:20230408T143000
DTSTAMP:20260426T112341
CREATED:20230319T021614Z
LAST-MODIFIED:20230319T073437Z
UID:158-1680964200-1680964200@hinata.tv
SUMMARY:Cafe Winds 33rd Anniversary Live
DESCRIPTION:ゲスト出演決定！ \n「Cafe Winds 33rd Anniversary Live」 \n■日時\n2023年4月8日(土)14:30スタート\nひなたは16:00～の予定です。 \n■会場\nカフェ＆バナナウィンズ駐車場\n（新潟県長岡市寺泊野積１０７番地） \n※入場無料
URL:https://hinata.tv/schedule/cafe-winds-33rd-anniversary-live/
LOCATION:カフェ＆バナナウィンズ駐車場\, 新潟県長岡市寺泊野積１０７番地
CATEGORIES:イベント
ATTACH;FMTTYPE=image/jpeg:https://hinata.tv/wp-content/uploads/2023/03/33rd_01-595x560-1.jpg
END:VEVENT
BEGIN:VEVENT
DTSTART;TZID=Asia/Tokyo:20230311T080000
DTEND;TZID=Asia/Tokyo:20230311T170000
DTSTAMP:20260426T112341
CREATED:20230523T074729Z
LAST-MODIFIED:20230523T074743Z
UID:591-1678521600-1678554000@hinata.tv
SUMMARY:古志の火まつり ファイナル　— 祈りの炎、永遠に ―
DESCRIPTION:古志の火まつり ファイナル　— 祈りの炎、永遠に ― \n高さ25mの「日本一のさいの神」にその年の新成人等が点火を行い、一年の無病息災・五穀豊穣・震災からの復興等、皆様の願いを祈願するお祭りです。点火後は、真っ白な雪原に舞い昇る50mにも届く火柱は幻想的な世界を映し出します。 \n■日時\n2023年3月11日(土)\n11時～18時30分\n※18時から「さいの神点火式」を実施します。\n※点火準備および安全確保のため、さいの神は17時30分で封鎖し立入禁止とします。 \n■会場\n長岡市自然休養地四季の里古志特設会場（あまやちの湯下）\n（新潟県長岡市山古志種苧原4526付近） \n※観覧無料 \n駐車場あり\n※会場周辺の駐車場はスペースが限られております。\n会場付近には臨時駐車場をご用意し、無料のシャトルバスを運行しておりますので是非ご利用ください。 \n〈主な内容 〉\n11:00 開場\n・臨時アルパカ牧場（～15:00）\n・ジャンボすべり台（～16:00）\n・特産品テント村　（～18:30）\n13:00 雪中角突き大会（～14:00）\n14:00 雪上車乗車体験（～16:00）\n14:30 東日本大震災追悼・復興の願い\n15:00 ステージショー（立花英樹、ひなた、Mondeo）\n18:00 さいの神点火式（天神囃子、白菊打上、雪中花火打上） \n★イベントの様子を「メタバース山古志」および「YouTube(山古志official)」で配信予定です★\n※さいの神へのお参り（立ち入り）は「１７時３０分」までです。\n※天候、その他の理由により、内容および時間が変更または中止になる場合があります。\n※皆様から応援いただきました古志の火まつり」は、2023年の開催をもちまして一旦事業休止となります。
URL:https://hinata.tv/schedule/20230311-2/
CATEGORIES:イベント
ATTACH;FMTTYPE=image/jpeg:https://hinata.tv/wp-content/uploads/2023/05/S__17211432-840x560-1.jpg
END:VEVENT
BEGIN:VEVENT
DTSTART;VALUE=DATE:20230311
DTEND;VALUE=DATE:20230312
DTSTAMP:20260426T112341
CREATED:20230523T074611Z
LAST-MODIFIED:20230523T074625Z
UID:588-1678492800-1678579199@hinata.tv
SUMMARY:春もみじ祭
DESCRIPTION:■日時\n2023年3月11日(土)\n11:00～18:00\n※ひなたは11:00～の出演を予定しています！ \n■会場\n越路ていしゃば交流施設ここらて\n（長岡市来迎寺甲2602-2） \n観覧無料
URL:https://hinata.tv/schedule/20230311/
CATEGORIES:イベント
ATTACH;FMTTYPE=image/jpeg:https://hinata.tv/wp-content/uploads/2023/05/S__12935191-840x560-1.jpg
END:VEVENT
BEGIN:VEVENT
DTSTART;TZID=Asia/Tokyo:20230225T080000
DTEND;TZID=Asia/Tokyo:20230225T170000
DTSTAMP:20260426T112341
CREATED:20230523T075208Z
LAST-MODIFIED:20230523T075208Z
UID:600-1677312000-1677344400@hinata.tv
SUMMARY:えちごかわぐち雪洞火ぼたる祭
DESCRIPTION:「えちごかわぐち雪洞火ぼたる祭」\n火ぼたる祭スペシャルライブ \n■日時\n2023年2月25日(土) \n■会場\nホテルサンローラ(新潟県長岡市川口中山2515-4)\n開場15:00/開演15:30\n18:30(終了予定) \n■出演\nひなた/さとちん/Rafvery/ナカノアツシ/遊吟/e-Necca!\n司会：田中さき \n50名限定 \n■制限枚数\nなし \n■入場順\n当日の整列順 \n■受付方法\nお申込ご希望の方は、hinata.ticket@gmail.com までメールにてお申込みください。\n受付期間：2023年1月23日(月)19:00～2月5日(日)23:59　→受付は終了しました！ \n受付期間終了後、抽選させていただき【2023年2月8日(水)】までに「参加可能の方のみ」へ、\nメールにてご連絡させていただきます。 \n—————–\n件名：2/25 火ボタル祭スペシャルライブ\n本文：1.代表者のお名前（カタカナフルネーム）　2.参加希望人数　3.代表者ご住所\n※お名前は必ず「カタカナ」でお願いいたします。\n—————– \n※観覧無料\n※ツイキャス＆YouTube配信 \n＜＜新型コロナウイルス感染症予防および拡散防止対策ご協力のお願い＞＞\n下記の対策項目をご理解いただき、コロナ禍でも皆様と、安全・安心なライブにしていく為にも、ご協力をお願いいたします。\n・今後の新型コロナウイルス感染症拡大状況によっては、開催が中止となる可能性もございます。予めご了承ください。\n・ご来場前に、ご自身の体調の確認と体温測定をお願いいたします。\n・入場時に検温を行ない、発熱(37.5度以上)がある方、または発熱の有無に関わらず体調不良の症状がみられる方はご入場をお断りいたします。\n・マスクの着用、手指の消毒を行なった上でのご入場をお願いいたします。\n・新型コロナウイルス感染予防のガイドラインに則ったルールでのご鑑賞をお願いいたします
URL:https://hinata.tv/schedule/20230225/
CATEGORIES:イベント
ATTACH;FMTTYPE=image/jpeg:https://hinata.tv/wp-content/uploads/2023/05/F14530E8-0070-4F56-BDDF-C265D3D180B2-827x560-1.jpeg
END:VEVENT
BEGIN:VEVENT
DTSTART;VALUE=DATE:20230115
DTEND;VALUE=DATE:20230116
DTSTAMP:20260426T112341
CREATED:20230523T075801Z
LAST-MODIFIED:20230523T075801Z
UID:611-1673740800-1673827199@hinata.tv
SUMMARY:長岡市ふるさと名物総選挙
DESCRIPTION:「長岡市ふるさと名物総選挙」 \nひなたがプレゼンテーターとして出演！ \n■日時\n2023年1月15日(日)\n13:00～15:00 \n■会場\nアオーレ長岡ナカドマ \nひなた＆さとちんのライブステージもあります！ \n※観覧無料
URL:https://hinata.tv/schedule/20230115/
CATEGORIES:イベント
ATTACH;FMTTYPE=image/jpeg:https://hinata.tv/wp-content/uploads/2023/05/S__16654356-840x560-1.jpg
END:VEVENT
BEGIN:VEVENT
DTSTART;TZID=Asia/Tokyo:20221225T080000
DTEND;TZID=Asia/Tokyo:20221225T170000
DTSTAMP:20260426T112341
CREATED:20230528T105515Z
LAST-MODIFIED:20230528T105527Z
UID:645-1671955200-1671987600@hinata.tv
SUMMARY:「王国クリスマスおたのしみ会2022」 ひなたクリスマスライブ！
DESCRIPTION:「王国クリスマスおたのしみ会2022」\nひなたクリスマスライブ！ \n■日時\n2022年12月25日(日)13:30～15:00\n※ひなたライブ時間13:40～ \n■会場\nプレイホール \n■料金\n1人500円 \n■申し込み\n電話にてお申込みください。\n受付時に氏名、連絡先をお伝えください。 \n■お願い\n・会場内ではマスクの着用をお願いいたします。\n・感染症対策にご協力お願いいたします。 \n■お問合せ・お申込み\n新潟県立こども自然王国\n0257-41-3355
URL:https://hinata.tv/schedule/20221225/
CATEGORIES:イベント
ATTACH;FMTTYPE=image/jpeg:https://hinata.tv/wp-content/uploads/2023/05/S__3924174-595x560-1.jpg
END:VEVENT
BEGIN:VEVENT
DTSTART;TZID=Asia/Tokyo:20221224T080000
DTEND;TZID=Asia/Tokyo:20221224T170000
DTSTAMP:20260426T112341
CREATED:20230528T105344Z
LAST-MODIFIED:20230528T105417Z
UID:642-1671868800-1671901200@hinata.tv
SUMMARY:HOT!ほっと(ぴあ)クリスマスコンサート
DESCRIPTION:「HOT!ほっと(ぴあ)クリスマス!」クリスマスコンサート！！！\nピアニスト古川さんとのコラボあり！ \n■日時\n2022年12月24日(土)15:00～ \n■会場\n「みつけ健幸の湯」ほっとぴあ\n（新潟県見附市本町1丁目4番23号）\nhttp://www.hotpia.jp/ \nライブ自体の観覧は無料！\nただし、施設利用料が別途かかります。 \n※当日券の配布あり
URL:https://hinata.tv/schedule/20221224-2/
CATEGORIES:イベント
ATTACH;FMTTYPE=image/jpeg:https://hinata.tv/wp-content/uploads/2023/05/S__157007903-840x560-1.jpg
END:VEVENT
BEGIN:VEVENT
DTSTART;VALUE=DATE:20221224
DTEND;VALUE=DATE:20221225
DTSTAMP:20260426T112341
CREATED:20230528T105247Z
LAST-MODIFIED:20230528T105247Z
UID:639-1671840000-1671926399@hinata.tv
SUMMARY:ひなたと過ごすクリスマスイヴ in じょんのび村
DESCRIPTION:ひなたと過ごすクリスマスイヴ in じょんのび村 \n■日時\n2022年12月24日(土)18:00〜 \n■場所\nじょんのび村\n(新潟県柏崎市高柳町高尾10-1) \n■お申込みは電話かフォームにて！\nhttps://www.jon-nobi.com/2389 \n日帰りプラン・宿泊プランの2種類あり！日帰りプランで送迎付の方には、送迎サービスもございます！ \n※同日、昼にも市内にてイベントあり！詳細お知らお待ちください！
URL:https://hinata.tv/schedule/20221224/
CATEGORIES:イベント
ATTACH;FMTTYPE=image/jpeg:https://hinata.tv/wp-content/uploads/2023/05/S__121503784-595x560-1.jpg
END:VEVENT
BEGIN:VEVENT
DTSTART;VALUE=DATE:20221210
DTEND;VALUE=DATE:20221211
DTSTAMP:20260426T112341
CREATED:20230528T105116Z
LAST-MODIFIED:20230528T105126Z
UID:637-1670630400-1670716799@hinata.tv
SUMMARY:ひなたコンサート
DESCRIPTION:「ひなたコンサート」 \n■日時\n2022年12月10日(土)13:30/14:00 \n■会場\n中之島コミュニティセンター多目的ホール \n※先着100名\n※入場無料・全席自由\nお申込はお早めに！ \n■申込\n事前申込必要。 \n中之島コミュニティセンター\nTEL：0258-66-3390
URL:https://hinata.tv/schedule/20221210/
CATEGORIES:イベント
ATTACH;FMTTYPE=image/jpeg:https://hinata.tv/wp-content/uploads/2023/03/logo.jpg
END:VEVENT
BEGIN:VEVENT
DTSTART;VALUE=DATE:20221204
DTEND;VALUE=DATE:20221205
DTSTAMP:20260426T112341
CREATED:20230528T104807Z
LAST-MODIFIED:20230528T104907Z
UID:631-1670112000-1670198399@hinata.tv
SUMMARY:SORAIRO国上「冬の美味い収穫祭」
DESCRIPTION:「冬の美味い収穫祭」 \n■日時\n2022年12月3日(土)、4日(日)10:00-16:00\n※ひなたの出演は12月4日になります。\n①12:30～    ②15:00～ \n■場所\n道の駅 国上\n（ 新潟県燕市国上５８６６−１）\nhttps://www.michinoeki-kugami.jp/ \n※観覧無料\n※屋外イベントとなりますので、暖かい格好でお越しください。
URL:https://hinata.tv/schedule/20221204/
CATEGORIES:イベント
ATTACH;FMTTYPE=image/jpeg:https://hinata.tv/wp-content/uploads/2023/05/S__16384021-840x560-1.jpg
END:VEVENT
BEGIN:VEVENT
DTSTART;VALUE=DATE:20221203
DTEND;VALUE=DATE:20221204
DTSTAMP:20260426T112341
CREATED:20230528T104550Z
LAST-MODIFIED:20230528T104602Z
UID:627-1670025600-1670111999@hinata.tv
SUMMARY:魔法の国3周年記念イベント 「魔法の国エンターテイメントショー」ゲスト出演！
DESCRIPTION:魔法の国3周年記念イベント\n「魔法の国エンターテイメントショー」ゲスト出演！ \n■日時\n2022年12月3日(土)\n開場:12時45分/開演:13時00分 \n■会場\n新津地域交流センター1Fイベントホール\n(新潟県新津市) \n■出演\nマジシャン\nＨＩＤＥ笹川・・・他 \n＜ゲスト＞\nひなた/Rafvery \n＜コラボアクト＞\nリアンズメロウ \n＜OP＞\n汐音/温花 \n※入場無料\n※予約不要\n※全席自由席 \n■お問合せ\nmagician.hide.1215@gmail.com
URL:https://hinata.tv/schedule/20221203/
CATEGORIES:イベント
ATTACH;FMTTYPE=image/jpeg:https://hinata.tv/wp-content/uploads/2023/05/S__10649644-840x560-1.jpg
END:VEVENT
BEGIN:VEVENT
DTSTART;VALUE=DATE:20221127
DTEND;VALUE=DATE:20221128
DTSTAMP:20260426T112341
CREATED:20230528T110832Z
LAST-MODIFIED:20230528T110832Z
UID:673-1669507200-1669593599@hinata.tv
SUMMARY:長岡 音むすびフェス!!2022
DESCRIPTION:「長岡 音むすびフェス!!2022」 \n■日時\n2022年11月27(日)\n開場10:00/開演11:00 \nタイムテーブルはこちら！ \n \n■会場\nアオーレ長岡 アリーナ/市民交流ホールA\n(新潟県長岡市大手通1丁目4番地10)\nhttp://www.ao-re.jp/ \n \n  \n■出演(五十音順)\nうたまろ/NGT48(本間日陽、三村妃乃、川越紗彩、古舘葵)/N.U./THE ORCHESTRA TOKYO/片山遼/\n門松良祐/GRAND COLOR STONE/ケミカル⇄リアクション/さとちん/サナダヒデト(BAND)/GENEX Dance Studio/千綿偉功/tuduri/ひなた/二人目のジャイアン/Best Partner/MIMIZUQ/萌江/遊吟/Rafvery \n■入場\n入場時、再入場可能なリストバンドをお渡しします！必ず腕に付けて外さないようにお願いいたします。 \n■入場料\n◎1人 1\,000円　※当日会場内で使用出来る500円の飲食クーポン券付きチケットです！\n・入場券・リストバンドは紛失しても再発行できませんので、お気を付けください。\n・入場券ご購入の際は、お釣りのないようにご協力お願いいたします。 \n＞クーポン券について\n500円以下の商品を購入してもお釣りは出ません。\n(当日会場でのお支払いとなります。お釣りのないようご用意ください。)\nアリーナ、ホールAそれぞれ、ご入場の前に会場のチケット販売ブースにて必ずチケット購入をお願いいたします。\n・入場チケットに付いてある500円クーポン券は11/27会場での飲食時のみ有効です。\n500円以下の商品を購入してもお釣りは出ません。 \n※学生無料　(再入場可能なリストバンドのみお渡しさせていただきます。)\n※未就学児童無料 \n■当日のご案内\n◎特典付き協賛プレミアチケット10\,000円→11/13で申込受付終了しました！\n★特典は当日、会場にてお渡しさせていただきます。必ず受け渡しブースにてリストバンド他を受け取ってください。★\n▼プレミア協賛チケットの詳細はこちら！\nhttps://marukyu2020.cart.fc2.com/ca13/62/p-r-s/?preview=e2b8af32ef86d8ddcf0a2c02ea6fa5de \n※受付期間終了後、抽選をし入場整理番号付きのメールを11月21日にメールにてお送りしました！\n届かない場合にはお問い合わせください。 \n■ご来場の皆様へのお願い\nご来場される皆様はご一読お願いいたします。\n■入場について\n★9:30よりアオーレ長岡大手通り入り口側の「本部」にて一般入場チケット販売を開始します。本部チケット売り場には【必ず】大手通り側からお越しください。画像の薄く丸で囲ったエリアは車両の出入りがある為、基本的には9:30まではご入場出来ません。長岡駅からお越しの方は2階駅直結ではなく、1階の大手通り側からの本部へお越しください。 \n \n9:30以降はご購入次第、ソトドマナカドマまで入場できます。\n10:00よりアリーナ、ホールＡそれぞれの入り口でチケット番号を呼び出してのステージ会場入場となります。\n時間近くになりましたら、ご希望の入り口付近でお待ちください。\n(一般チケット、最初の入場時は購入順（チケットに記載の整理番号順）で、お呼び出しさせていただきます。) \n★10:45より、本部に加えアリーナとホールＡの中間地点の物産テントでもチケット販売所を開設します。 \n★各会場入場口ではリストバンドのチェックのみ行わせていただきますので、\nチケットは必ずチケット売り場で先にご購入ください。 \n※プレミア協賛チケットをご購入済みのお客様※\nアリーナ入口横にて必ずリストバンドを事前にお受け取りいただき、事前にメールにてお送りした「入場整理番号」\n順にてご整列の上ご入場ください。\n※なお、当日の状況によりご案内が変動する可能性もあります。ご了承ください。 \n■飲食ブースについて\n9:30以降、各店舗準備ができ次第、順次販売開始となります。\n・ナカドマの飲食ブースは入場チケットの購入はなく食べ物・飲み物のご購入可能です。 \n■会場内についてのご案内\n・会場内はアリーナ・ホールA共にオールスタンディングです。アリーナの後方には飲食スペースを設ける予定です。\nイス、テーブルがあります。\n・各会場、前方はプレミア協賛チケット観覧エリアになります。(スタンディングのみです)\n荷物を置いたまま長時間その場を離れたりしないようにしてください。\nお目当てのアーティスト出演の際などは譲り合いながら、楽しくお過ごしください。\n・いずれも荷物を置きっぱなしにしたり、シートを引いたり、折りたたみ式の椅子を持ち込むことは出来ません。\nアリーナの2階を開放予定です。飲食はそちらでも可能です。 \n■オフィシャル協賛グッズ販売\n10時開場後、アリーナ内にて実施します。\nタオルを是非！ゲットしてください！ \n★各アーティストグッズ\n準備ができ次第、もしくは、終演後のみ実施の可能性もございます。\n販売の有無に関しては各出演アーティストにご確認くださいますようお願いいたします。 \n■感染症対策のお願い\n＜＜新型コロナウイルス感染症予防および拡散防止対策ご協力のお願い＞＞\n下記の対策項目をご理解いただき、コロナ禍でも皆様と、安全・安心なライブにしていく為にも、ご協力をお願いいたします。\n・ご来場前に、ご自身の体調の確認と体温測定をお願いいたします。\n・入場列はフィジカルディスタンスを確保した形で整列をお願いします。\nマスク着用確認⇒手指消毒⇒検温（非接触検温）⇒入場\n上記の流れで入場していただきます。（当日の状況により変更する可能性があります。）\n・公演中もマスクを着用の上、ご鑑賞ください。 \n■終演後に集合写真！\nご来場のみなさまと一緒に終演後に集合写真を撮影します！\nその際、ぜひ購入していただいたグッズを掲げて撮影していただけるとうれしいです！\n終演後だと完売の可能性も高いので、ぜひ、グッズはお早めにご購入ください！ \n■お願い\n・写真撮影について\nホールAの「GENEX Dance Studio」時以外、関係者以外のライブ演奏の撮影・録音・録画は禁止です。\n食べ物やご来場者の皆さま同士での撮影は可能です。 \n・駐車場\n会場のアオーレ長岡の駐車場は大変混み合います。\n公共交通機関をご利用いただくか、周辺駐車場をご利用いただきますようお願いします。 \n・その他\n会場内外での事故、盗難等、主催者は一切責任を負いません。自己管理をお願いします。\nアオーレ長岡は外のナカドマ含めて施設全体が禁煙です。おタバコは喫煙スペースのみでお願いいたします。\n会場内にコインロッカー等はありません。荷物等の保管は各自で行ってください。 \n■困った時は！\n当日、会場には様々なスタッフがいます。\n・青いジャンパーのスタッフ\n→アオーレ長岡の会場のスタッフさんになります。\nトイレの場所や喫煙の場所など、会場に関するスペシャリストです！\n・赤いハッピを着たスタッフ\n→音むす実行委員会関係スタッフ、出演アーティストスタッフなどが着用しています。\nイベント全体への質問があれば、赤いハッピを着たスタッフにお声掛けください！ \n■お問い合わせ\nhinata.ticket@gmail.com\n音むすに関するお問い合わせはこちらまでお願いいたします。\n内容、お名前を記載の上お問い合わせください。\nメールへのご返信はすぐに出来ない可能性もあります。予めご了承ください。 \n  \n最後までお読みいただきありがとうございました！\nご来場のみなさま誰もが笑顔でたのしく過ごして幸せな1日になりますように。
URL:https://hinata.tv/schedule/20221127/
CATEGORIES:イベント
ATTACH;FMTTYPE=image/jpeg:https://hinata.tv/wp-content/uploads/2023/05/S__42991630-840x560-1.jpg
END:VEVENT
BEGIN:VEVENT
DTSTART;VALUE=DATE:20221113
DTEND;VALUE=DATE:20221114
DTSTAMP:20260426T112341
CREATED:20230528T110310Z
LAST-MODIFIED:20230528T110321Z
UID:662-1668297600-1668383999@hinata.tv
SUMMARY:見附ニットまつり
DESCRIPTION:「みつけニット秋まつり」 \n■日時\n2022年11月13日(日) \n■会場\n見附市市民交流センター ネーブルみつけ\n(新潟県見附市学校町1丁目16-15) \n■1回目\n11：00～11：20　第一ニットマーケティング㈱駐車場（屋外） \n■2回目\n13：30～13：50　ネーブルみつけ　1階エントランス広場（屋内） \n※駐車場は小雨決行。大雨中止。\n※観覧無料
URL:https://hinata.tv/schedule/20221113/
CATEGORIES:イベント
ATTACH;FMTTYPE=image/jpeg:https://hinata.tv/wp-content/uploads/2023/03/logo.jpg
END:VEVENT
BEGIN:VEVENT
DTSTART;TZID=Asia/Tokyo:20221112T080000
DTEND;TZID=Asia/Tokyo:20221112T170000
DTSTAMP:20260426T112341
CREATED:20230528T110217Z
LAST-MODIFIED:20230528T110228Z
UID:660-1668240000-1668272400@hinata.tv
SUMMARY:横浜ブルーラインフェス2022〜MUSIC RIDE〜
DESCRIPTION:横浜ブルーラインフェス2022〜MUSIC RIDE〜 \n■日時\n2022年11月12日(土)\n開場 10:30 / 開演 11:00 \n■会場\n新横浜LiT　(https://shinyokohamalit.com)\n関内BAYSIS　(http://www.yokohamabaysis.com)\n横浜mint hall　(https://minthall.com) \n■チケット料金\n前売 3\,500円 / 当日 4\,000円\n(drink代別 600円) \n■チケット発売日\n2022年9月中旬予定 \n■チケット取り扱い\nTIGET予約　(URL未定)\n各出演者手売り \n■主催\n新横浜LiT\n関内BAYSIS\n横浜mint hall\n横浜ブルーラインフェス実行委員会 \n■協力\n横浜ミュージックスクール \n■お問合せ\nYokohama mint hall 045-620-2330
URL:https://hinata.tv/schedule/20221112/
CATEGORIES:イベント
ATTACH;FMTTYPE=image/jpeg:https://hinata.tv/wp-content/uploads/2023/03/logo.jpg
END:VEVENT
BEGIN:VEVENT
DTSTART;TZID=Asia/Tokyo:20221106T080000
DTEND;TZID=Asia/Tokyo:20221106T170000
DTSTAMP:20260426T112341
CREATED:20230528T105948Z
LAST-MODIFIED:20230528T105957Z
UID:654-1667721600-1667754000@hinata.tv
SUMMARY:万代テラスエリア ENJOY フェス
DESCRIPTION:11/6(日)に開催される「万代テラスエリア ENJOY フェス」\nでの「結婚式場ブレストン会場」での出演が決定しました。 \n「万代テラスエリア ENJOY フェス」 \n■日程\n2022年11月6日(日) \n■会場\n結婚式場ハーバーパーク アヴァニューブレストン\n(新潟市中央区万代3-3-1 / TEL：025-240-4122) \n■時間ならび料金詳細：２部制\n＊昼(ランチ公演)：12:00〜14:00\nランチ料金：お一人様 ¥6\,000(税込)\n※アルコール含むフリードリンク込 \n＊夜(ディナー公演)：18:00〜20:00\nディナー料金：お一人様 ¥10\,000(税込)\n※アルコール含むフリードリンク込 \n※完全予約制になります。事前のお申込みが必要です。 \n■ご予約またはお問合せ先\nハーバーパークアヴェニューブレストン\nTEL：025-240-4122
URL:https://hinata.tv/schedule/20221106/
CATEGORIES:イベント
ATTACH;FMTTYPE=image/jpeg:https://hinata.tv/wp-content/uploads/2023/05/ブレストン_エンジョイフェスA4チラシ裏-840x560-1.jpg
END:VEVENT
BEGIN:VEVENT
DTSTART;TZID=Asia/Tokyo:20221103T080000
DTEND;TZID=Asia/Tokyo:20221103T170000
DTSTAMP:20260426T112341
CREATED:20230528T105701Z
LAST-MODIFIED:20230528T105712Z
UID:648-1667462400-1667494800@hinata.tv
SUMMARY:もみじ祭り
DESCRIPTION:「もみじ祭り」 \n■日時\n2022年11月3日(木)11:00～18:00\nひなた出演予定時間 17:30～ \n■場所\n越路ていしゃば交流施設 ここらて\n（新潟県長岡市来迎寺甲2602-2）\n来迎寺駅[出口]から徒歩約1分 \n※入場無料
URL:https://hinata.tv/schedule/20221103/
CATEGORIES:イベント
ATTACH;FMTTYPE=image/jpeg:https://hinata.tv/wp-content/uploads/2023/05/ていしゃば１１-840x560-1.jpg
END:VEVENT
BEGIN:VEVENT
DTSTART;VALUE=DATE:20221030
DTEND;VALUE=DATE:20221031
DTSTAMP:20260426T112341
CREATED:20230528T112850Z
LAST-MODIFIED:20230528T112901Z
UID:701-1667088000-1667174399@hinata.tv
SUMMARY:川口秋まつり
DESCRIPTION:「川口秋まつり」 \n■日時\n2022年10月30日(日)\n10:00～15:00 \n■会場\n長岡市川口支所前特設会場 \nミニライブあり！仮装コンテスト特別審査員も！ \n※観覧無料
URL:https://hinata.tv/schedule/20221030/
CATEGORIES:イベント
ATTACH;FMTTYPE=image/jpeg:https://hinata.tv/wp-content/uploads/2023/05/00643CA6-39F2-4A0E-AC65-A1BA78008A1E-840x560-1.jpg
END:VEVENT
BEGIN:VEVENT
DTSTART;VALUE=DATE:20221029
DTEND;VALUE=DATE:20221030
DTSTAMP:20260426T112341
CREATED:20230528T112748Z
LAST-MODIFIED:20230528T112748Z
UID:698-1667001600-1667087999@hinata.tv
SUMMARY:新潟·山形水害復興支援 ～ Halloween Live ～
DESCRIPTION:「新潟·山形水害復興支援～ Halloween Live ～」 \n■日時\n2022年10月29日(土)\n開場:15:30 / 開演:16:00 \n■会場\n万代島多目的広場～大かま～ ( 屋内広場 )\n（新潟県新潟市中央区万代島4番地2） \n※ 近隣有料駐車場をご利用下さい。 \n入場無料
URL:https://hinata.tv/schedule/20221029/
CATEGORIES:イベント
ATTACH;FMTTYPE=image/jpeg:https://hinata.tv/wp-content/uploads/2023/05/S__21184816-840x560-1.jpg
END:VEVENT
BEGIN:VEVENT
DTSTART;VALUE=DATE:20221022
DTEND;VALUE=DATE:20221023
DTSTAMP:20260426T112341
CREATED:20230528T112516Z
LAST-MODIFIED:20230528T112540Z
UID:693-1666396800-1666483199@hinata.tv
SUMMARY:第14回古町音楽祭
DESCRIPTION:ジャンルは問わないコンテスト形式の音楽祭！\n5年振りに復活！！ \n■日時\n10/22(土）「第14回古町音楽祭」\n13:30〜16:30 \n■会場\n新潟市中央区古町7 ルフル広場特設ステージ \n参加アーティスト募集中！ \n▼詳細はコチラhttps://www.fmniigata.com/program/1/event/58407
URL:https://hinata.tv/schedule/20221022/
CATEGORIES:イベント
ATTACH;FMTTYPE=image/jpeg:https://hinata.tv/wp-content/uploads/2023/05/33700B53-59E6-478C-8261-2313D542983C.jpeg
END:VEVENT
BEGIN:VEVENT
DTSTART;VALUE=DATE:20221016
DTEND;VALUE=DATE:20221017
DTSTAMP:20260426T112341
CREATED:20230528T112406Z
LAST-MODIFIED:20230528T112420Z
UID:690-1665878400-1665964799@hinata.tv
SUMMARY:【ご招待】丸久ビル屋上での生ライブ＆ディナーショー！
DESCRIPTION:ひなたクラウドファンディング特典リターン！！！！\n超耕21ガッター、月と太陽のミュージックビデオ撮影地！そして、数々の伝説が生まれた場所でもある、ひなたの事務所ビル屋上！\nご支援いただいた皆さまだけをご招待！ \n■日時\n10/16(日)\n※時間（ご支援いただいた方へのみお知らせさせていただきました） \n■会場\n丸久ユニフォーム　屋上\n(新潟県長岡市袋町2丁目1084) \n■開催に関する詳細を、10/4メールにてご案内させていただきました。 \nご支援していただいた方でメールが届かない方はご連絡ください！ \n※新型コロナウィルス感染状況により変更の可能性あり
URL:https://hinata.tv/schedule/20221016-2/
CATEGORIES:イベント
ATTACH;FMTTYPE=image/jpeg:https://hinata.tv/wp-content/uploads/2023/05/4-840x560-1.jpg
END:VEVENT
BEGIN:VEVENT
DTSTART;VALUE=DATE:20221010
DTEND;VALUE=DATE:20221011
DTSTAMP:20260426T112341
CREATED:20230528T112044Z
LAST-MODIFIED:20230528T112100Z
UID:682-1665360000-1665446399@hinata.tv
SUMMARY:結成23周年記念『ひなた単独コンサート 5000通りの一期一笑』
DESCRIPTION:結成23周年記念『ひなた単独コンサート 5000通りの一期一笑』 \n＞店頭販売あり！！\n株式会社丸久ユニフォーム(長岡市袋町2-1084)にて、平日9：00～17：00でチケットの店頭販売あり！10/7(金)まで！ \n＞当日券あり！！\n3000円（10/10当日、会場受付にて購入可能！） \n■日時\n2022年10月10日(月・祝)\n開場13:00/開演14:00\n\n■会場\nアオーレ長岡 アリーナ\n(新潟県長岡市大手通１丁目４−１０)\nhttps://ao-re.jp/\n\n■出演\nひなた \n■ゲスト\nN.U. / 荻野由佳 / Rafvery / 西山 茉希 / さとちん /  吉田 睦 /  片野 大輔 /  Masumi Yamamoto /  GENEX Dance Studio 他！！！！ \n■入場順\n①プレミアチケット⇒②Ａ特典付きチケット⇒③Ｂチケット⇒当日券\nプレミアムチケットは「最優先入場」となります。座席指定はされておりません。入場後お好きな場所にご着席ください。\n※Bチケットには入場整理番号と記載がありますが、Bチケットをお持ちの方の入場は当日の整列順となります。予めご了承ください。 \nご入場に関するご案内です。\n事前に、ご自身の購入されたチケットの入場方法をご確認ください！！ \n＊＊＊入場の際に、お客様ご自身でチケットをもぎっていただいてのご入場となります。＊＊＊ \n【プレミアムチケット+特典付きＡチケット(入場最優先チケット)】\n■入場…「プレミアムチケット」NO.1～→「特典付きＡチケット(アルバム+タオル付)」NO.1～→「特典付きＡチケット(タオル付)」NO.1～\n※開場後、遅れて到着した場合には、Ｂチケットをお持ちの方の入場が始まっていても、先に入場可能ですので、入口にてＡチケットを持っている事を伝えてください。\n■席…入場後自由にご着席ください。前方でプレミアムチケット席を確保しているわけではありません。\n■特典…会場のグッズ販売と同じ場所にて、12:00～それぞれの特典受け取りが出来ます。(12:00～12:50ナカドマ/13:00～アリーナ内)\nチケットをお申込いただいた分を一括でお渡しさせていただきます。\n取りに来られる方はどなたでも大丈夫ですが、チケットをご持参ください。(チケット招集が難しい場合にはご相談ください。)\n終演後までお渡し可能です。 \n【一般チケット(Ｂチケット)】\n■入場…プレミアムチケット、Ａチケットの後に、当日整列した順番で入場となります。\n■席…入場後自由にご着席ください。出来るだけ前の方から詰めて着席してください。\n※入場の途中でＡチケットの方が来た場合には、先に入場していただきますので、順番をお譲りいただきます。予めご了承ください。\n※整列開始位置は当日会場スタッフが案内します。スタッフの指示に従って整列してください。 \n—————–\n【お客様へのお願い】\n■座席について\n・前から出来る限り詰めてお座りください。\n・先に入られた方が、後からくる方の席を確保するのはおやめください。\n(もし、そのような状況が見受けられた場合には、スタッフがお声掛けさせていただく場合もございます。) \n■写真撮影について\n一部の曲をのぞき、関係者以外の「撮影・録音・録画」は禁止です。\n撮影ＯＫの曲になりましたら、ステージよりご案内させていただきます。 \n■飲食物\n会場内は飲み物のみ持ち込み可能です。 \n■駐車場\n公共交通機関をご利用いただくか、周辺駐車場をご利用いただきますようお願いします。 \n■その他\n・アオーレ長岡は外のナカドマ含めて施設全体が禁煙です。おタバコは喫煙スペースのみでお願いいたします。\n・会場内にコインロッカー等はありません。荷物等の保管は各自で行ってください。 \n———————————-\n■チケット種別\n＞Aチケット(特典付きチケット)→受付終了！\n・プレミアチケット(最優先入場＆ひなたニューアルバム＆Tシャツ＆タオル付):￥10\,000-(税込)\n・カルマチケット(ひなたニューアルバム＆タオル付):￥7\,000-(税込)\n・モンキーチケット(ひなたニューアルバム付):￥5\,000-(税込) \n＞Bチケット(特典なしチケット)→通販での受付は終了！当日券あり！\n・一般チケット:￥2500-(税込)\n・ひなたファミリーチケット(5枚セット):￥10\,000-(税込)\n・キッズチケット(中学生以上の学生 ):￥1\,000-(税込)\n※Bチケットには入場整理番号と記載がありますが、Bチケットをお持ちの方の入場は当日の整列順となります。予めご了承ください。 \n※小学生以下無料\n＞店頭販売\n株式会社丸久ユニフォームにて、チケットの店頭販売あり！10/7(金)17:00まで！ \n＞当日券\n3000円（会場受付にて購入可能！） \n＜チケットの説明＞\n※ファミリーチケットは一般Ｂチケットの5枚セットチケットです。\n※キッズチケットは学生用チケットです。\n中学生、高校生、大学生、専門学校生など学生用チケットです。\n\n———————————- \n■チケット購入の際の事前お知らせ\nアーティストの急病、天災など予期せぬ事由により、公演が中止となった場合は、手数料を差し引いたチケット代金を払い戻しいたします。 \n\n公演中止など、主催者がやむを得ないと判断する場合以外の払い戻しはいたしませんので、予めご了承ください。\n※複数枚で申込されている方は連番になりますのでご安心ください。\n※支払い期日までにお支払いの確認ができない方、連絡の取れない方はキャンセル扱いになりますのでお気を付けください。\n※入場整理番号はチケット到着時にご確認ください。事前のお問合せにはお答えできませんのご了承ください。\n※事前に下記アドレスからのメールを受信できるよう受信設定確認をお願いいたします。\n入金のご案内は自動返信メール配信アドレス⇒［noreply@cart.fc2.com］(ショップの送信専用アドレス)から配信されます。 \n\n\n\n\n\n\n\n\n◎ご注文の前にお読みください◎\n\n\n\n\n\n\n\n\n＜＜新型コロナウイルス感染症予防および拡散防止対策ご協力のお願い＞＞\n下記の対策項目をご理解いただき、コロナ禍でも皆様と、安全・安心なライブにしていく為にも、ご協力をお願いいたします。\n・ご入場の際、入口にて検温を実施させていただきます。\n・ご来場の際は必ずマスクの着用・感染予防の為の換気、ご入場時の消毒等々にご協力お願いいたします。\n・当日、体調の優れない方はご来場をご遠慮くださいますようお願いいたします。\n・新型コロナウイルス感染予防のガイドラインに則ったルールでのご鑑賞をお願いいたします。\n・終演後は混雑緩和のため、規制退場を行う場合がございます。\n・会場内で気分が悪くなった場合は決して無理をせず速やかにスタッフにお申し出ください。\n・今後の新型コロナウイルス感染症拡大状況によっては、開催が中止となる可能性もございます。\nその際はチケット代金をご返金させていただきます。 \n 
URL:https://hinata.tv/schedule/20221010/
CATEGORIES:イベント
END:VEVENT
BEGIN:VEVENT
DTSTART;VALUE=DATE:20221009
DTEND;VALUE=DATE:20221010
DTSTAMP:20260426T112341
CREATED:20230528T111938Z
LAST-MODIFIED:20230528T111938Z
UID:679-1665273600-1665359999@hinata.tv
SUMMARY:長岡 米百俵フェス 〜花火と食と音楽と〜 2022
DESCRIPTION:10月7日(金)、8日(土)、9日(日)の3日間新潟県長岡市で開催される「長岡 米百俵フェス 〜花火と食と音楽と〜 2022」に出演決定！ \n＜長岡 米百俵フェス 〜花火と食と音楽と〜 2022＞ \n幅広い年代の皆様に楽しんでいただける多彩なラインナップのアーティストによる音楽ライブ、日本三大花火大会としても有名な長岡が誇るケタ違いの“長岡花火”、自然豊かな土地で育てられた美味しい食べ物が一堂に集まり、子どもも大人も家族揃って楽しむことができる今までにない総合エンターテイメントフェス「米フェス」！！ \n〜2022年も新型コロナウィルス感染予防に最大限留意し、より安心・安全なフェスを目指します〜 \n■日程\n2022年10月7日(金)、8日(土)、9日(日)\n※ひなたは、9日トップバッターでの出演！！\nN.U.とのコラボあり！西山茉希さんとのコラボもあります！ \n■開場/開演\n10/7(金)　開場 15:00 開演 16:00\n10/8(土)、9(日)　開場 9:30 開演 11:00 \n■会場\n東山ファミリーランド（新潟県長岡市） \n▼チケット情報その他詳細はイベントオフィシャルHP、各SNSにてご確認ください。\n-HP：https://www.comefes.net \n-Twitter：https://twitter.com/n_comefes \n-Instagram：https://www.instagram.com/nagaoka_comefes/
URL:https://hinata.tv/schedule/%e9%95%b7%e5%b2%a1-%e7%b1%b3%e7%99%be%e4%bf%b5%e3%83%95%e3%82%a7%e3%82%b9-%e3%80%9c%e8%8a%b1%e7%81%ab%e3%81%a8%e9%a3%9f%e3%81%a8%e9%9f%b3%e6%a5%bd%e3%81%a8%e3%80%9c-2022/
CATEGORIES:イベント
ATTACH;FMTTYPE=image/jpeg:https://hinata.tv/wp-content/uploads/2023/05/FWAZRbOaMAEAd_G.jpg
END:VEVENT
END:VCALENDAR