BEGIN:VCALENDAR
VERSION:2.0
PRODID:-//HINATA official site | ひなた公式サイト - ECPv6.3.3.1//NONSGML v1.0//EN
CALSCALE:GREGORIAN
METHOD:PUBLISH
X-WR-CALNAME:HINATA official site | ひなた公式サイト
X-ORIGINAL-URL:https://hinata.tv
X-WR-CALDESC:HINATA official site | ひなた公式サイト のイベント
REFRESH-INTERVAL;VALUE=DURATION:PT1H
X-Robots-Tag:noindex
X-PUBLISHED-TTL:PT1H
BEGIN:VTIMEZONE
TZID:Asia/Tokyo
BEGIN:STANDARD
TZOFFSETFROM:+0900
TZOFFSETTO:+0900
TZNAME:JST
DTSTART:20220101T000000
END:STANDARD
END:VTIMEZONE
BEGIN:VEVENT
DTSTART;VALUE=DATE:20220924
DTEND;VALUE=DATE:20220925
DTSTAMP:20260426T125405
CREATED:20230528T114159Z
LAST-MODIFIED:20230528T114210Z
UID:730-1663977600-1664063999@hinata.tv
SUMMARY:トチオノアカリ2022
DESCRIPTION:『トチオノアカリ2022』 \n■日時\n2022年9月24日(土)、25日(日)\n両日17:00点灯～21:00まで≪予定≫ \n■ライブステージ\n9/24(土)18:00〜スタート\nひなた/Rafvery/トモシビ \n■会場\n常安寺(長岡市谷内2-7-7) \n※入場無料！
URL:https://hinata.tv/schedule/20220924-2/
CATEGORIES:LIVE,イベント
ATTACH;FMTTYPE=image/jpeg:https://hinata.tv/wp-content/uploads/2023/05/A4_TT-2-840x560-1.jpg
END:VEVENT
BEGIN:VEVENT
DTSTART;VALUE=DATE:20220924
DTEND;VALUE=DATE:20220925
DTSTAMP:20260426T125405
CREATED:20230528T114105Z
LAST-MODIFIED:20230528T114118Z
UID:727-1663977600-1664063999@hinata.tv
SUMMARY:「いいねっか村上2022」BSN ラジオ公開収録
DESCRIPTION:「いいねっか村上2022」\nBSNラジオ「ひなたまつり」公開収録！ \n■開催日時\n2022年9月24日(土)10時～15時 \n■場所\n岩船港港湾緑地 \n▼詳細
URL:https://hinata.tv/schedule/20220924-1/
CATEGORIES:イベント
ATTACH;FMTTYPE=image/jpeg:https://hinata.tv/wp-content/uploads/2023/05/S__41402404-840x560-1.jpg
END:VEVENT
BEGIN:VEVENT
DTSTART;TZID=Asia/Tokyo:20220923T080000
DTEND;TZID=Asia/Tokyo:20220923T170000
DTSTAMP:20260426T125405
CREATED:20230528T114007Z
LAST-MODIFIED:20230528T114019Z
UID:725-1663920000-1663952400@hinata.tv
SUMMARY:リバーサイド千秋　インストアライブ
DESCRIPTION:ひなたpresents！今回も素敵な仲間たちが集まってリバーサイド千秋にて楽しい時間を過ごしましょう！ \n■日時\n2022年9月23日(金・祝) \n■場所\nリバーサイド千秋 1Fリバーサイドコート\n(新潟県長岡市千秋2丁目278番地)\nhttp://riverside-senshu.com/event/detail.html?id=1331 \n■出演\nひなた/いいくぼさおり/style-3! \n■タイムテーブル\n①11:00～11:25　style-3!\n②11:30～11:55　いいくぼさおり\n③12:00～12:25　ひなた\n【即売会】 \n①13:30～13:55　いいくぼさおり\n②14:00～14:25　style-3!\n③14:30～14:55　ひなた \n【感染予防のための注意事項】\n新型コロナウイルス感染症をはじめとする感染予防対策と致しまして、イベントへご来場いただく皆さまには以下の注意事項にご協力をお願い致します。\n・マスク着用をお願いしております。\n・ライブ中の声援・コールなど大きな声を発する行為は控えて頂きますようお願い申し上げます。\n・手指消毒にご協力ください。\n・発熱症状のあるお客さまは恐れ入りますがご参加を控えて頂きますようお願い申し上げます。\n・今後の状況の変化に伴い、イベントの中止・内容を変更させていただく場合がございます。\n・出演者がマスクを着用させていただく場合がございます。予めご了承願います。 \n入場無料
URL:https://hinata.tv/schedule/20220923/
CATEGORIES:LIVE,イベント
ATTACH;FMTTYPE=image/jpeg:https://hinata.tv/wp-content/uploads/2023/03/logo.jpg
END:VEVENT
BEGIN:VEVENT
DTSTART;TZID=Asia/Tokyo:20220917T080000
DTEND;TZID=Asia/Tokyo:20220917T170000
DTSTAMP:20260426T125405
CREATED:20230528T113650Z
LAST-MODIFIED:20230528T113710Z
UID:717-1663401600-1663434000@hinata.tv
SUMMARY:田植部(タウェーブ)　稲刈り大会2022
DESCRIPTION:「田植部(タウェーブ)　稲刈り大会2022」 inホープイン中沢 \n■日時\n2022年9月17日(土) \n■スケジュール(予定)\n受付開始 9:00\n開会式 9:30\n稲刈り　10:30まで\nひなたミニライブ 10:30-11:30\n解散 12:00\n※会場での飲食は今回はありません。おにぎりをお持ち帰りいただけるようご用意させていただきます。 \n■会場\n有限会社 ホープイン中沢\n(新潟県長岡市越路中沢625-2) \n■参加費\nひとり2000円（お持ち帰りおにぎり付き）\n(当日会場でのお支払いとなります。お釣りのないようにご用意お願いいたします。) \n■申込方法\n参加希望の方はメールにてお申込みください。 \nhinata.ticket@gmail.com\n件名：9/17稲刈り参加申込\n本文：代表者氏名、参加人数 \n※動きやすく、汚れてもよい格好でお越しください。\n※天候により開催の有無が変わります。中止の際はひなたオフィシャルツイッターで告知いたします。\n※体調のすぐれない方のご参加はご遠慮ください。\n※適度な距離を保ってご参加ください。
URL:https://hinata.tv/schedule/20220917/
CATEGORIES:イベント
ATTACH;FMTTYPE=image/jpeg:https://hinata.tv/wp-content/uploads/2023/03/logo.jpg
END:VEVENT
BEGIN:VEVENT
DTSTART;TZID=Asia/Tokyo:20220911T080000
DTEND;TZID=Asia/Tokyo:20220911T170000
DTSTAMP:20260426T125405
CREATED:20230528T113541Z
LAST-MODIFIED:20230528T113551Z
UID:715-1662883200-1662915600@hinata.tv
SUMMARY:リバーサイド千秋　インストアライブ
DESCRIPTION:ひなたpresents！今回も素敵な仲間たちが集まってリバーサイド千秋にて楽しい時間を過ごしましょう！ \n■日時\n2022年9月11日(日) \n■場所\nリバーサイド千秋 1Fリバーサイドコート\n(新潟県長岡市千秋2丁目278番地)\nhttp://riverside-senshu.com/event/detail.html?id=1331 \n■出演\nひなた/ナカノアツシ/サナダヒデト/吉田睦 \n■タイムテーブル\n＜1部＞\n11:00-11:25吉田睦\n11:30-11:55サナダヒデト\n12:00-12:25ナカノアツシ\n12:30-12:55ひなた\n即売会 \n＜2部＞\n13:30-13:55吉田睦\n14:00-14:25サナダヒデト\n14:30-14:55ナカノアツシ\n15:00-15:30ひなた＆エンディング\n即売会 \n【感染予防のための注意事項】\n新型コロナウイルス感染症をはじめとする感染予防対策と致しまして、イベントへご来場いただく皆さまには以下の注意事項にご協力をお願い致します。\n・マスク着用をお願いしております。\n・ライブ中の声援・コールなど大きな声を発する行為は控えて頂きますようお願い申し上げます。\n・手指消毒にご協力ください。\n・発熱症状のあるお客さまは恐れ入りますがご参加を控えて頂きますようお願い申し上げます。\n・今後の状況の変化に伴い、イベントの中止・内容を変更させていただく場合がございます。\n・出演者がマスクを着用させていただく場合がございます。予めご了承願います。 \n入場無料
URL:https://hinata.tv/schedule/20220911/
CATEGORIES:LIVE,イベント
ATTACH;FMTTYPE=image/jpeg:https://hinata.tv/wp-content/uploads/2023/03/logo.jpg
END:VEVENT
BEGIN:VEVENT
DTSTART;VALUE=DATE:20220910
DTEND;VALUE=DATE:20220911
DTSTAMP:20260426T125405
CREATED:20230528T113323Z
LAST-MODIFIED:20230528T113334Z
UID:710-1662768000-1662854399@hinata.tv
SUMMARY:CoCoLoadミュージックvol.02
DESCRIPTION:ひなたの原点！長岡駅　CoCoLo長岡にて「CoCoLoadミュージック」vol.2！！！！！\n歌は心を込めて熱い仲間たちが集まります！入場無料！CoCoLo長岡キャノピー広場へ集合！ \n「CoCoLoadミュージックvol.02」 \nvol.1は中止となってしまいましたが、vol.2は出演者の皆様全員無事参加出来ますように！ \n■日時\n2022年9月10日(土) \n■会場\nCoCoLo長岡　キャノピー広場　特設ステージ \n■出演\nひなた/ナカノアツシ/サナダヒデト \n※観覧無料\n※ライブ中の写真撮影・動画撮影は禁止です。 \n雨天決行（荒天中止)\n＊開催の是非はひなたSNSよりお知らせいたします。
URL:https://hinata.tv/schedule/20220910/
CATEGORIES:LIVE,イベント,野外ライブ
ATTACH;FMTTYPE=image/jpeg:https://hinata.tv/wp-content/uploads/2023/05/20220910チラシ-840x560-1.jpg
END:VEVENT
BEGIN:VEVENT
DTSTART;TZID=Asia/Tokyo:20220904T080000
DTEND;TZID=Asia/Tokyo:20220904T170000
DTSTAMP:20260426T125405
CREATED:20230528T113210Z
LAST-MODIFIED:20230528T113223Z
UID:707-1662278400-1662310800@hinata.tv
SUMMARY:長岡ブルーヒルズフェスティバル2022!!in青葉台
DESCRIPTION:『長岡ブルーヒルズフェスティバル2022!!in青葉台』 \n青葉台ニュータウンの広大な敷地を利用して、町と人を結ぶフェスティバル開催決定！\n「ひなた」を中心に子どもたちから大人まで参加型の一大イベントです！ビアガーデン！\nキッチンカーフェス！食と音楽とダンス！一日まるごと楽しみましょう♪\n※テーブルや、椅子はありませんので、各自でビニールシートや、椅子、傘などご持参ください！\n晴れの時用の日傘！雨の時用の雨傘などご用意ください♪ \n■日時\n2022年9月4日(日)11:00-17:00 \n■会場\n青葉台ニュータウン (旧アカチャンホンポ長岡店　跡地)\n(新潟県長岡市青葉台1-120-21) \n■出演\nひなた\nhttps://hinata.tv/ \nRafvery\nhttps://www.rafvery.jp/ \nLuvDanceMovement\nhttps://luvdance.net/ \nナーリコオカピカケ\nhttp://likopikake.com/ \nGenex Dance Studio\nhttps://genex-dance.com/ \nよさこい　舞〜MAI〜 \n中越高校チアリーディング部\nhttps://www.chuetsu-h.ed.jp/club/cheer/ \n■出店\nキッチンカー１０店舗！！予定！ \n■タイムテーブル\n11:00-11:10 オープニング\n11:10-11:40 よさこい　舞〜MAI〜\n12:00-12:30 中越高校チアリーディング部\n12:50-13:10 Genex Dance Studio\n13:30-14:00 ナーリコオカピカケ\n14:20-14:50 LuvDanceMovement\n15:00-15:30 Rafvery\n15:50-16:20 ひなた\n16:20-16:30エンディングセッション \n入場無料\n駐車場無料 \n雨天決行（荒天中止)\n＊開催の是非はひなたSNSよりお知らせいたします↓\nhttps://twitter.com/hinatalive \n主催：ひなた・(株)丸久ユニフォーム\n共催：(株)美松・(株) 晴耕舎
URL:https://hinata.tv/schedule/20220904/
CATEGORIES:イベント,野外ライブ
ATTACH;FMTTYPE=image/jpeg:https://hinata.tv/wp-content/uploads/2023/05/20220904-840x560-1.jpg
END:VEVENT
BEGIN:VEVENT
DTSTART;VALUE=DATE:20220902
DTEND;VALUE=DATE:20220903
DTSTAMP:20260426T125405
CREATED:20230528T113053Z
LAST-MODIFIED:20230528T113105Z
UID:704-1662076800-1662163199@hinata.tv
SUMMARY:ハコニワのよるニワ
DESCRIPTION:「ハコニワのよるニワ」 \n「ひなた」スペシャルライブ！ \n■日時\n2022年9月2日(金)\n19：00-20：00 \n■場所\nハコニワ\n（新潟県柏崎市横山440-1） \n※入場無料
URL:https://hinata.tv/schedule/20220902/
CATEGORIES:イベント
ATTACH;FMTTYPE=image/jpeg:https://hinata.tv/wp-content/uploads/2023/05/S__41590789-840x560-1.jpg
END:VEVENT
BEGIN:VEVENT
DTSTART;VALUE=DATE:20220805
DTEND;VALUE=DATE:20220806
DTSTAMP:20260426T125405
CREATED:20230602T093836Z
LAST-MODIFIED:20230602T093836Z
UID:745-1659657600-1659743999@hinata.tv
SUMMARY:弥彦村納涼音楽祭
DESCRIPTION:『弥彦村納涼音楽祭』 \n■日時\n2022年8月5日(金)\n開場16:15／開演17:00 \n■会場\n弥彦競輪場\n(新潟県西蒲原郡弥彦村弥彦２６２1) \n※駐車場は競輪場最寄りの村営駐車場（無料）をご利用ください。 \n■出演\nSWAMP/TSUNEI/陸上自衛隊東部方面音楽隊/ひなた(7/29出演決定) \n※入場無料／全席自由席
URL:https://hinata.tv/schedule/20220805/
CATEGORIES:イベント
ATTACH;FMTTYPE=image/jpeg:https://hinata.tv/wp-content/uploads/2023/06/FYB_lpDacAANrva-840x560-1.jpg
END:VEVENT
END:VCALENDAR